BEGIN:VCALENDAR
VERSION:2.0
PRODID:spatie/icalendar-generator
DESCRIPTION:Events from Parroquia de Santa Cruz
X-WR-CALDESC:Events from Parroquia de Santa Cruz
REFRESH-INTERVAL;VALUE=DURATION:PT1440M
X-PUBLISHED-TTL:PT1440M
BEGIN:VTIMEZONE
TZID:Europe/Madrid
BEGIN:STANDARD
DTSTART:20231029T030000Z
TZOFFSETFROM:+0200
TZOFFSETTO:+0100
END:STANDARD
BEGIN:DAYLIGHT
DTSTART:20240331T020000Z
TZOFFSETFROM:+0100
TZOFFSETTO:+0200
END:DAYLIGHT
END:VTIMEZONE
BEGIN:VTIMEZONE
TZID:UTC
BEGIN:STANDARD
DTSTART:20250728T080058Z
TZOFFSETFROM:+0000
TZOFFSETTO:+0000
END:STANDARD
END:VTIMEZONE
BEGIN:VEVENT
UID:492-134
DTSTAMP:20260424T080058Z
SUMMARY:Jornada por la Vida
LOCATION:Parroquia de Santa Cruz Atocha\, 6  Madrid Madrid 28012
ORGANIZER;CN=Juan M. Criado:MAILTO:criado@me.com
DTSTART;TZID=Europe/Madrid;VALUE=DATE:20240408
DTEND;TZID=Europe/Madrid;VALUE=DATE:20240409
X-ALT-DESC;FMTTYPE=TEXT/HTML:
CATEGORIES:
URL;VALUE=URI:https://www.parroquiadesantacruz.com/mc-events/jornada-por-la
 -vida/
METHOD:PUBLISH
END:VEVENT
END:VCALENDAR